BEGIN:VCALENDAR
VERSION:2.0
PRODID:-//Helmdon Parish Council//Meeting Calendar//EN
CALSCALE:GREGORIAN
METHOD:PUBLISH
BEGIN:VEVENT
UID:73914-20240612@helmdonparishcouncil.gov.uk
DTSTAMP:20260422T083927Z
DTSTART;VALUE=DATE:20240612
DTEND;VALUE=DATE:20240613
SUMMARY:Planning Committee Meeting 12th June 2024
DESCRIPTION:Planning Committee Meeting\nView details: https://helmdonparishcouncil.gov.uk/meetings/planning-committee-12th-june-2024/
URL:https://helmdonparishcouncil.gov.uk/meetings/planning-committee-12th-june-2024/
END:VEVENT
END:VCALENDAR
